BEGIN:VCALENDAR
VERSION:2.0
PRODID:-//MUGS AWAY - ECPv6.1.1//NONSGML v1.0//EN
CALSCALE:GREGORIAN
METHOD:PUBLISH
X-ORIGINAL-URL:https://mugsawaysaloon.com
X-WR-CALDESC:Events for MUGS AWAY
REFRESH-INTERVAL;VALUE=DURATION:PT1H
X-Robots-Tag:noindex
X-PUBLISHED-TTL:PT1H
BEGIN:VTIMEZONE
TZID:UTC
BEGIN:STANDARD
TZOFFSETFROM:+0000
TZOFFSETTO:+0000
TZNAME:UTC
DTSTART:20230101T000000
END:STANDARD
END:VTIMEZONE
BEGIN:VEVENT
DTSTART;TZID=UTC:20230708T110000
DTEND;TZID=UTC:20230708T220000
DTSTAMP:20260422T010359
CREATED:20230625T163917Z
LAST-MODIFIED:20230628T074130Z
UID:10000011-1688814000-1688853600@mugsawaysaloon.com
SUMMARY:2023 Annual Mooning
DESCRIPTION:Bands: \nHillbilly Crutch @ 11 PM \nBunch of Guys @ 3 PM \nKentucky Playboys @ 8 PM
URL:https://mugsawaysaloon.com/event/eagle-cooking-burgers/
LOCATION:CA
ATTACH;FMTTYPE=image/jpeg:https://mugsawaysaloon.com/wp-content/uploads/2023/06/event-1.jpg
END:VEVENT
END:VCALENDAR